BEGIN:VCALENDAR
VERSION:2.0
PRODID:-//Beyond Liberty - ECPv6.15.20//NONSGML v1.0//EN
CALSCALE:GREGORIAN
METHOD:PUBLISH
X-ORIGINAL-URL:https://beyondliberty.org
X-WR-CALDESC:Events for Beyond Liberty
REFRESH-INTERVAL;VALUE=DURATION:PT1H
X-Robots-Tag:noindex
X-PUBLISHED-TTL:PT1H
BEGIN:VTIMEZONE
TZID:UTC
BEGIN:STANDARD
TZOFFSETFROM:+0000
TZOFFSETTO:+0000
TZNAME:UTC
DTSTART:20250101T000000
END:STANDARD
END:VTIMEZONE
BEGIN:VEVENT
DTSTART;TZID=UTC:20260428T090000
DTEND;TZID=UTC:20260428T100000
DTSTAMP:20260423T101702
CREATED:20260225T222236Z
LAST-MODIFIED:20260421T001502Z
UID:10000417-1777366800-1777370400@beyondliberty.org
SUMMARY:Deepening Connection: Being With the Herd
DESCRIPTION:$10 drop-in\nA quiet\, embodied experience for those who wish to feel more grounded\, present\, and connected. This workshop is not about doing anything to the horses—it is about being with them. Horses live fully in the present moment\, and when we slow down enough to meet them there\, our nervous systems remember how to settle\, breathe\, and belong. Join the Pregnant Mare Rescue herd for a gentle journey into presence and deeper connection. \nPlan to be “in the moment” – be prepared for a flexible end time. \n[Book now]
URL:https://beyondliberty.org/calendar/deepening-connection-being-with-the-herd/2026-04-28/
LOCATION:515 Calabasas Rd. Watsonville\, CA 95076
ATTACH;FMTTYPE=image/jpeg:https://beyondliberty.org/wp-content/uploads/2026/02/appointmentType-thumb-87881429-1.jpg
ORGANIZER;CN="PREGNANT MARE RESCUE":MAILTO:denna@pregnantmarerescue.org
END:VEVENT
BEGIN:VEVENT
DTSTART;TZID=UTC:20260430T090000
DTEND;TZID=UTC:20260430T100000
DTSTAMP:20260423T101702
CREATED:20260225T222236Z
LAST-MODIFIED:20260421T001502Z
UID:10000418-1777539600-1777543200@beyondliberty.org
SUMMARY:Deepening Connection: Being With the Herd
DESCRIPTION:$10 drop-in\nA quiet\, embodied experience for those who wish to feel more grounded\, present\, and connected. This workshop is not about doing anything to the horses—it is about being with them. Horses live fully in the present moment\, and when we slow down enough to meet them there\, our nervous systems remember how to settle\, breathe\, and belong. Join the Pregnant Mare Rescue herd for a gentle journey into presence and deeper connection. \nPlan to be “in the moment” – be prepared for a flexible end time. \n[Book now]
URL:https://beyondliberty.org/calendar/deepening-connection-being-with-the-herd/2026-04-30/
LOCATION:515 Calabasas Rd. Watsonville\, CA 95076
ATTACH;FMTTYPE=image/jpeg:https://beyondliberty.org/wp-content/uploads/2026/02/appointmentType-thumb-87881429-1.jpg
ORGANIZER;CN="PREGNANT MARE RESCUE":MAILTO:denna@pregnantmarerescue.org
END:VEVENT
BEGIN:VEVENT
DTSTART;TZID=UTC:20260507T090000
DTEND;TZID=UTC:20260507T100000
DTSTAMP:20260423T101702
CREATED:20260225T222236Z
LAST-MODIFIED:20260421T001502Z
UID:10000419-1778144400-1778148000@beyondliberty.org
SUMMARY:Deepening Connection: Being With the Herd
DESCRIPTION:$10 drop-in\nA quiet\, embodied experience for those who wish to feel more grounded\, present\, and connected. This workshop is not about doing anything to the horses—it is about being with them. Horses live fully in the present moment\, and when we slow down enough to meet them there\, our nervous systems remember how to settle\, breathe\, and belong. Join the Pregnant Mare Rescue herd for a gentle journey into presence and deeper connection. \nPlan to be “in the moment” – be prepared for a flexible end time. \n[Book now]
URL:https://beyondliberty.org/calendar/deepening-connection-being-with-the-herd/2026-05-07/
LOCATION:515 Calabasas Rd. Watsonville\, CA 95076
ATTACH;FMTTYPE=image/jpeg:https://beyondliberty.org/wp-content/uploads/2026/02/appointmentType-thumb-87881429-1.jpg
ORGANIZER;CN="PREGNANT MARE RESCUE":MAILTO:denna@pregnantmarerescue.org
END:VEVENT
BEGIN:VEVENT
DTSTART;TZID=UTC:20260514T090000
DTEND;TZID=UTC:20260514T100000
DTSTAMP:20260423T101702
CREATED:20260225T222236Z
LAST-MODIFIED:20260421T001502Z
UID:10000420-1778749200-1778752800@beyondliberty.org
SUMMARY:Deepening Connection: Being With the Herd
DESCRIPTION:$10 drop-in\nA quiet\, embodied experience for those who wish to feel more grounded\, present\, and connected. This workshop is not about doing anything to the horses—it is about being with them. Horses live fully in the present moment\, and when we slow down enough to meet them there\, our nervous systems remember how to settle\, breathe\, and belong. Join the Pregnant Mare Rescue herd for a gentle journey into presence and deeper connection. \nPlan to be “in the moment” – be prepared for a flexible end time. \n[Book now]
URL:https://beyondliberty.org/calendar/deepening-connection-being-with-the-herd/2026-05-14/
LOCATION:515 Calabasas Rd. Watsonville\, CA 95076
ATTACH;FMTTYPE=image/jpeg:https://beyondliberty.org/wp-content/uploads/2026/02/appointmentType-thumb-87881429-1.jpg
ORGANIZER;CN="PREGNANT MARE RESCUE":MAILTO:denna@pregnantmarerescue.org
END:VEVENT
BEGIN:VEVENT
DTSTART;TZID=UTC:20260521T090000
DTEND;TZID=UTC:20260521T100000
DTSTAMP:20260423T101702
CREATED:20260225T222236Z
LAST-MODIFIED:20260421T001502Z
UID:10000421-1779354000-1779357600@beyondliberty.org
SUMMARY:Deepening Connection: Being With the Herd
DESCRIPTION:$10 drop-in\nA quiet\, embodied experience for those who wish to feel more grounded\, present\, and connected. This workshop is not about doing anything to the horses—it is about being with them. Horses live fully in the present moment\, and when we slow down enough to meet them there\, our nervous systems remember how to settle\, breathe\, and belong. Join the Pregnant Mare Rescue herd for a gentle journey into presence and deeper connection. \nPlan to be “in the moment” – be prepared for a flexible end time. \n[Book now]
URL:https://beyondliberty.org/calendar/deepening-connection-being-with-the-herd/2026-05-21/
LOCATION:515 Calabasas Rd. Watsonville\, CA 95076
ATTACH;FMTTYPE=image/jpeg:https://beyondliberty.org/wp-content/uploads/2026/02/appointmentType-thumb-87881429-1.jpg
ORGANIZER;CN="PREGNANT MARE RESCUE":MAILTO:denna@pregnantmarerescue.org
END:VEVENT
BEGIN:VEVENT
DTSTART;TZID=UTC:20260604T090000
DTEND;TZID=UTC:20260604T100000
DTSTAMP:20260423T101702
CREATED:20260225T222236Z
LAST-MODIFIED:20260421T001502Z
UID:10000422-1780563600-1780567200@beyondliberty.org
SUMMARY:Deepening Connection: Being With the Herd
DESCRIPTION:$10 drop-in\nA quiet\, embodied experience for those who wish to feel more grounded\, present\, and connected. This workshop is not about doing anything to the horses—it is about being with them. Horses live fully in the present moment\, and when we slow down enough to meet them there\, our nervous systems remember how to settle\, breathe\, and belong. Join the Pregnant Mare Rescue herd for a gentle journey into presence and deeper connection. \nPlan to be “in the moment” – be prepared for a flexible end time. \n[Book now]
URL:https://beyondliberty.org/calendar/deepening-connection-being-with-the-herd/2026-06-04/
LOCATION:515 Calabasas Rd. Watsonville\, CA 95076
ATTACH;FMTTYPE=image/jpeg:https://beyondliberty.org/wp-content/uploads/2026/02/appointmentType-thumb-87881429-1.jpg
ORGANIZER;CN="PREGNANT MARE RESCUE":MAILTO:denna@pregnantmarerescue.org
END:VEVENT
BEGIN:VEVENT
DTSTART;TZID=UTC:20260611T090000
DTEND;TZID=UTC:20260611T100000
DTSTAMP:20260423T101702
CREATED:20260225T222236Z
LAST-MODIFIED:20260421T001502Z
UID:10000423-1781168400-1781172000@beyondliberty.org
SUMMARY:Deepening Connection: Being With the Herd
DESCRIPTION:$10 drop-in\nA quiet\, embodied experience for those who wish to feel more grounded\, present\, and connected. This workshop is not about doing anything to the horses—it is about being with them. Horses live fully in the present moment\, and when we slow down enough to meet them there\, our nervous systems remember how to settle\, breathe\, and belong. Join the Pregnant Mare Rescue herd for a gentle journey into presence and deeper connection. \nPlan to be “in the moment” – be prepared for a flexible end time. \n[Book now]
URL:https://beyondliberty.org/calendar/deepening-connection-being-with-the-herd/2026-06-11/
LOCATION:515 Calabasas Rd. Watsonville\, CA 95076
ATTACH;FMTTYPE=image/jpeg:https://beyondliberty.org/wp-content/uploads/2026/02/appointmentType-thumb-87881429-1.jpg
ORGANIZER;CN="PREGNANT MARE RESCUE":MAILTO:denna@pregnantmarerescue.org
END:VEVENT
BEGIN:VEVENT
DTSTART;TZID=UTC:20260618T090000
DTEND;TZID=UTC:20260618T100000
DTSTAMP:20260423T101702
CREATED:20260225T222236Z
LAST-MODIFIED:20260421T001502Z
UID:10000424-1781773200-1781776800@beyondliberty.org
SUMMARY:Deepening Connection: Being With the Herd
DESCRIPTION:$10 drop-in\nA quiet\, embodied experience for those who wish to feel more grounded\, present\, and connected. This workshop is not about doing anything to the horses—it is about being with them. Horses live fully in the present moment\, and when we slow down enough to meet them there\, our nervous systems remember how to settle\, breathe\, and belong. Join the Pregnant Mare Rescue herd for a gentle journey into presence and deeper connection. \nPlan to be “in the moment” – be prepared for a flexible end time. \n[Book now]
URL:https://beyondliberty.org/calendar/deepening-connection-being-with-the-herd/2026-06-18/
LOCATION:515 Calabasas Rd. Watsonville\, CA 95076
ATTACH;FMTTYPE=image/jpeg:https://beyondliberty.org/wp-content/uploads/2026/02/appointmentType-thumb-87881429-1.jpg
ORGANIZER;CN="PREGNANT MARE RESCUE":MAILTO:denna@pregnantmarerescue.org
END:VEVENT
BEGIN:VEVENT
DTSTART;TZID=UTC:20260625T090000
DTEND;TZID=UTC:20260625T100000
DTSTAMP:20260423T101702
CREATED:20260225T222236Z
LAST-MODIFIED:20260421T001502Z
UID:10000425-1782378000-1782381600@beyondliberty.org
SUMMARY:Deepening Connection: Being With the Herd
DESCRIPTION:$10 drop-in\nA quiet\, embodied experience for those who wish to feel more grounded\, present\, and connected. This workshop is not about doing anything to the horses—it is about being with them. Horses live fully in the present moment\, and when we slow down enough to meet them there\, our nervous systems remember how to settle\, breathe\, and belong. Join the Pregnant Mare Rescue herd for a gentle journey into presence and deeper connection. \nPlan to be “in the moment” – be prepared for a flexible end time. \n[Book now]
URL:https://beyondliberty.org/calendar/deepening-connection-being-with-the-herd/2026-06-25/
LOCATION:515 Calabasas Rd. Watsonville\, CA 95076
ATTACH;FMTTYPE=image/jpeg:https://beyondliberty.org/wp-content/uploads/2026/02/appointmentType-thumb-87881429-1.jpg
ORGANIZER;CN="PREGNANT MARE RESCUE":MAILTO:denna@pregnantmarerescue.org
END:VEVENT
BEGIN:VEVENT
DTSTART;TZID=UTC:20260702T090000
DTEND;TZID=UTC:20260702T100000
DTSTAMP:20260423T101702
CREATED:20260225T222236Z
LAST-MODIFIED:20260421T001502Z
UID:10000426-1782982800-1782986400@beyondliberty.org
SUMMARY:Deepening Connection: Being With the Herd
DESCRIPTION:$10 drop-in\nA quiet\, embodied experience for those who wish to feel more grounded\, present\, and connected. This workshop is not about doing anything to the horses—it is about being with them. Horses live fully in the present moment\, and when we slow down enough to meet them there\, our nervous systems remember how to settle\, breathe\, and belong. Join the Pregnant Mare Rescue herd for a gentle journey into presence and deeper connection. \nPlan to be “in the moment” – be prepared for a flexible end time. \n[Book now]
URL:https://beyondliberty.org/calendar/deepening-connection-being-with-the-herd/2026-07-02/
LOCATION:515 Calabasas Rd. Watsonville\, CA 95076
ATTACH;FMTTYPE=image/jpeg:https://beyondliberty.org/wp-content/uploads/2026/02/appointmentType-thumb-87881429-1.jpg
ORGANIZER;CN="PREGNANT MARE RESCUE":MAILTO:denna@pregnantmarerescue.org
END:VEVENT
BEGIN:VEVENT
DTSTART;TZID=UTC:20260709T090000
DTEND;TZID=UTC:20260709T100000
DTSTAMP:20260423T101702
CREATED:20260225T222236Z
LAST-MODIFIED:20260421T001502Z
UID:10000427-1783587600-1783591200@beyondliberty.org
SUMMARY:Deepening Connection: Being With the Herd
DESCRIPTION:$10 drop-in\nA quiet\, embodied experience for those who wish to feel more grounded\, present\, and connected. This workshop is not about doing anything to the horses—it is about being with them. Horses live fully in the present moment\, and when we slow down enough to meet them there\, our nervous systems remember how to settle\, breathe\, and belong. Join the Pregnant Mare Rescue herd for a gentle journey into presence and deeper connection. \nPlan to be “in the moment” – be prepared for a flexible end time. \n[Book now]
URL:https://beyondliberty.org/calendar/deepening-connection-being-with-the-herd/2026-07-09/
LOCATION:515 Calabasas Rd. Watsonville\, CA 95076
ATTACH;FMTTYPE=image/jpeg:https://beyondliberty.org/wp-content/uploads/2026/02/appointmentType-thumb-87881429-1.jpg
ORGANIZER;CN="PREGNANT MARE RESCUE":MAILTO:denna@pregnantmarerescue.org
END:VEVENT
BEGIN:VEVENT
DTSTART;TZID=UTC:20260716T090000
DTEND;TZID=UTC:20260716T100000
DTSTAMP:20260423T101702
CREATED:20260225T222236Z
LAST-MODIFIED:20260421T001502Z
UID:10000428-1784192400-1784196000@beyondliberty.org
SUMMARY:Deepening Connection: Being With the Herd
DESCRIPTION:$10 drop-in\nA quiet\, embodied experience for those who wish to feel more grounded\, present\, and connected. This workshop is not about doing anything to the horses—it is about being with them. Horses live fully in the present moment\, and when we slow down enough to meet them there\, our nervous systems remember how to settle\, breathe\, and belong. Join the Pregnant Mare Rescue herd for a gentle journey into presence and deeper connection. \nPlan to be “in the moment” – be prepared for a flexible end time. \n[Book now]
URL:https://beyondliberty.org/calendar/deepening-connection-being-with-the-herd/2026-07-16/
LOCATION:515 Calabasas Rd. Watsonville\, CA 95076
ATTACH;FMTTYPE=image/jpeg:https://beyondliberty.org/wp-content/uploads/2026/02/appointmentType-thumb-87881429-1.jpg
ORGANIZER;CN="PREGNANT MARE RESCUE":MAILTO:denna@pregnantmarerescue.org
END:VEVENT
BEGIN:VEVENT
DTSTART;TZID=UTC:20260730T090000
DTEND;TZID=UTC:20260730T100000
DTSTAMP:20260423T101702
CREATED:20260225T222236Z
LAST-MODIFIED:20260421T001502Z
UID:10000429-1785402000-1785405600@beyondliberty.org
SUMMARY:Deepening Connection: Being With the Herd
DESCRIPTION:$10 drop-in\nA quiet\, embodied experience for those who wish to feel more grounded\, present\, and connected. This workshop is not about doing anything to the horses—it is about being with them. Horses live fully in the present moment\, and when we slow down enough to meet them there\, our nervous systems remember how to settle\, breathe\, and belong. Join the Pregnant Mare Rescue herd for a gentle journey into presence and deeper connection. \nPlan to be “in the moment” – be prepared for a flexible end time. \n[Book now]
URL:https://beyondliberty.org/calendar/deepening-connection-being-with-the-herd/2026-07-30/
LOCATION:515 Calabasas Rd. Watsonville\, CA 95076
ATTACH;FMTTYPE=image/jpeg:https://beyondliberty.org/wp-content/uploads/2026/02/appointmentType-thumb-87881429-1.jpg
ORGANIZER;CN="PREGNANT MARE RESCUE":MAILTO:denna@pregnantmarerescue.org
END:VEVENT
BEGIN:VEVENT
DTSTART;TZID=UTC:20260806T090000
DTEND;TZID=UTC:20260806T100000
DTSTAMP:20260423T101702
CREATED:20260225T222236Z
LAST-MODIFIED:20260421T001502Z
UID:10000430-1786006800-1786010400@beyondliberty.org
SUMMARY:Deepening Connection: Being With the Herd
DESCRIPTION:$10 drop-in\nA quiet\, embodied experience for those who wish to feel more grounded\, present\, and connected. This workshop is not about doing anything to the horses—it is about being with them. Horses live fully in the present moment\, and when we slow down enough to meet them there\, our nervous systems remember how to settle\, breathe\, and belong. Join the Pregnant Mare Rescue herd for a gentle journey into presence and deeper connection. \nPlan to be “in the moment” – be prepared for a flexible end time. \n[Book now]
URL:https://beyondliberty.org/calendar/deepening-connection-being-with-the-herd/2026-08-06/
LOCATION:515 Calabasas Rd. Watsonville\, CA 95076
ATTACH;FMTTYPE=image/jpeg:https://beyondliberty.org/wp-content/uploads/2026/02/appointmentType-thumb-87881429-1.jpg
ORGANIZER;CN="PREGNANT MARE RESCUE":MAILTO:denna@pregnantmarerescue.org
END:VEVENT
BEGIN:VEVENT
DTSTART;TZID=UTC:20260813T090000
DTEND;TZID=UTC:20260813T100000
DTSTAMP:20260423T101702
CREATED:20260225T222236Z
LAST-MODIFIED:20260421T001502Z
UID:10000431-1786611600-1786615200@beyondliberty.org
SUMMARY:Deepening Connection: Being With the Herd
DESCRIPTION:$10 drop-in\nA quiet\, embodied experience for those who wish to feel more grounded\, present\, and connected. This workshop is not about doing anything to the horses—it is about being with them. Horses live fully in the present moment\, and when we slow down enough to meet them there\, our nervous systems remember how to settle\, breathe\, and belong. Join the Pregnant Mare Rescue herd for a gentle journey into presence and deeper connection. \nPlan to be “in the moment” – be prepared for a flexible end time. \n[Book now]
URL:https://beyondliberty.org/calendar/deepening-connection-being-with-the-herd/2026-08-13/
LOCATION:515 Calabasas Rd. Watsonville\, CA 95076
ATTACH;FMTTYPE=image/jpeg:https://beyondliberty.org/wp-content/uploads/2026/02/appointmentType-thumb-87881429-1.jpg
ORGANIZER;CN="PREGNANT MARE RESCUE":MAILTO:denna@pregnantmarerescue.org
END:VEVENT
END:VCALENDAR