BEGIN:VCALENDAR
VERSION:2.0
PRODID:-//Beyond Liberty - ECPv6.15.20//NONSGML v1.0//EN
CALSCALE:GREGORIAN
METHOD:PUBLISH
X-ORIGINAL-URL:https://beyondliberty.org
X-WR-CALDESC:Events for Beyond Liberty
REFRESH-INTERVAL;VALUE=DURATION:PT1H
X-Robots-Tag:noindex
X-PUBLISHED-TTL:PT1H
BEGIN:VTIMEZONE
TZID:UTC
BEGIN:STANDARD
TZOFFSETFROM:+0000
TZOFFSETTO:+0000
TZNAME:UTC
DTSTART:20250101T000000
END:STANDARD
END:VTIMEZONE
BEGIN:VEVENT
DTSTART;TZID=UTC:20260510T153000
DTEND;TZID=UTC:20260510T170000
DTSTAMP:20260421T125000
CREATED:20260225T222340Z
LAST-MODIFIED:20260308T152230Z
UID:10000223-1778427000-1778432400@beyondliberty.org
SUMMARY:Read to the Rescues at PMR
DESCRIPTION:Donation Based\nGive your child the unique opportunity to read aloud in the calming presence of a rescue horse. This gentle practice builds confidence\, nurtures empathy\, and fosters a quiet bond between child and horse.  One on one experience designed for children to practice reading in a safe\, supportive space and parents to learn about our sanctuary.\nSpace is limited to maintain a calm environment. \nSchedule: 2nd Sunday of the Month (weather permitting) \n[Book now]
URL:https://beyondliberty.org/calendar/read-to-the-rescues-at-pmr/2026-05-10/
LOCATION:515 Calabasas Rd. Watsonville\, CA 95076
ATTACH;FMTTYPE=image/jpeg:https://beyondliberty.org/wp-content/uploads/2026/02/appointmentType-thumb-85487268-1.jpeg
ORGANIZER;CN="PREGNANT MARE RESCUE":MAILTO:denna@pregnantmarerescue.org
END:VEVENT
BEGIN:VEVENT
DTSTART;TZID=UTC:20260614T153000
DTEND;TZID=UTC:20260614T170000
DTSTAMP:20260421T125000
CREATED:20260225T222340Z
LAST-MODIFIED:20260308T152230Z
UID:10000224-1781451000-1781456400@beyondliberty.org
SUMMARY:Read to the Rescues at PMR
DESCRIPTION:Donation Based\nGive your child the unique opportunity to read aloud in the calming presence of a rescue horse. This gentle practice builds confidence\, nurtures empathy\, and fosters a quiet bond between child and horse.  One on one experience designed for children to practice reading in a safe\, supportive space and parents to learn about our sanctuary.\nSpace is limited to maintain a calm environment. \nSchedule: 2nd Sunday of the Month (weather permitting) \n[Book now]
URL:https://beyondliberty.org/calendar/read-to-the-rescues-at-pmr/2026-06-14/
LOCATION:515 Calabasas Rd. Watsonville\, CA 95076
ATTACH;FMTTYPE=image/jpeg:https://beyondliberty.org/wp-content/uploads/2026/02/appointmentType-thumb-85487268-1.jpeg
ORGANIZER;CN="PREGNANT MARE RESCUE":MAILTO:denna@pregnantmarerescue.org
END:VEVENT
BEGIN:VEVENT
DTSTART;TZID=UTC:20260712T153000
DTEND;TZID=UTC:20260712T170000
DTSTAMP:20260421T125000
CREATED:20260225T222340Z
LAST-MODIFIED:20260308T152230Z
UID:10000225-1783870200-1783875600@beyondliberty.org
SUMMARY:Read to the Rescues at PMR
DESCRIPTION:Donation Based\nGive your child the unique opportunity to read aloud in the calming presence of a rescue horse. This gentle practice builds confidence\, nurtures empathy\, and fosters a quiet bond between child and horse.  One on one experience designed for children to practice reading in a safe\, supportive space and parents to learn about our sanctuary.\nSpace is limited to maintain a calm environment. \nSchedule: 2nd Sunday of the Month (weather permitting) \n[Book now]
URL:https://beyondliberty.org/calendar/read-to-the-rescues-at-pmr/2026-07-12/
LOCATION:515 Calabasas Rd. Watsonville\, CA 95076
ATTACH;FMTTYPE=image/jpeg:https://beyondliberty.org/wp-content/uploads/2026/02/appointmentType-thumb-85487268-1.jpeg
ORGANIZER;CN="PREGNANT MARE RESCUE":MAILTO:denna@pregnantmarerescue.org
END:VEVENT
BEGIN:VEVENT
DTSTART;TZID=UTC:20260809T153000
DTEND;TZID=UTC:20260809T170000
DTSTAMP:20260421T125000
CREATED:20260225T222340Z
LAST-MODIFIED:20260308T152230Z
UID:10000226-1786289400-1786294800@beyondliberty.org
SUMMARY:Read to the Rescues at PMR
DESCRIPTION:Donation Based\nGive your child the unique opportunity to read aloud in the calming presence of a rescue horse. This gentle practice builds confidence\, nurtures empathy\, and fosters a quiet bond between child and horse.  One on one experience designed for children to practice reading in a safe\, supportive space and parents to learn about our sanctuary.\nSpace is limited to maintain a calm environment. \nSchedule: 2nd Sunday of the Month (weather permitting) \n[Book now]
URL:https://beyondliberty.org/calendar/read-to-the-rescues-at-pmr/2026-08-09/
LOCATION:515 Calabasas Rd. Watsonville\, CA 95076
ATTACH;FMTTYPE=image/jpeg:https://beyondliberty.org/wp-content/uploads/2026/02/appointmentType-thumb-85487268-1.jpeg
ORGANIZER;CN="PREGNANT MARE RESCUE":MAILTO:denna@pregnantmarerescue.org
END:VEVENT
END:VCALENDAR